BEGIN:VCALENDAR
VERSION:2.0
PRODID:-//Webpicking - ECPv4.6.26.1//NONSGML v1.0//EN
CALSCALE:GREGORIAN
METHOD:PUBLISH
X-WR-CALNAME:Webpicking
X-ORIGINAL-URL:https://webpicking.com
X-WR-CALDESC:Eventos para Webpicking
BEGIN:VEVENT
DTSTART;VALUE=DATE:20190808
DTEND;VALUE=DATE:20190810
DTSTAMP:20260424T091720
CREATED:20190412T000022Z
LAST-MODIFIED:20190412T000022Z
UID:16122-1565222400-1565395199@webpicking.com
SUMMARY:5º Expo Foro - Logística & Transporte
DESCRIPTION:
URL:https://webpicking.com/event/5o-expo-foro-logistica-transporte/
LOCATION:Consultar al organizador – BCAL\, Baja Califofrnia\, México
CATEGORIES:MEXICO
END:VEVENT
END:VCALENDAR