BEGIN:VCALENDAR
VERSION:2.0
PRODID:-//Webpicking - ECPv4.6.26.1//NONSGML v1.0//EN
CALSCALE:GREGORIAN
METHOD:PUBLISH
X-WR-CALNAME:Webpicking
X-ORIGINAL-URL:https://webpicking.com
X-WR-CALDESC:Eventos para Webpicking
BEGIN:VEVENT
DTSTART;VALUE=DATE:20170913
DTEND;VALUE=DATE:20170916
DTSTAMP:20260424T084127
CREATED:20170811T165103Z
LAST-MODIFIED:20170811T165103Z
UID:8764-1505260800-1505519999@webpicking.com
SUMMARY:42º Congreso Internacional de Transporte de Carga y su Logística
DESCRIPTION:
URL:https://webpicking.com/event/42o-congreso-internacional-de-transporte-de-carga-y-su-logistica/
LOCATION:Consultar al organizador – BARR\, Barranquilla\, Colombia
CATEGORIES:COLOMBIA
ORGANIZER;CN="COLFECAR":MAILTO:info@colfecar.org.co
END:VEVENT
END:VCALENDAR