BEGIN:VCALENDAR
VERSION:2.0
PRODID:-//Webpicking - ECPv4.6.26.1//NONSGML v1.0//EN
CALSCALE:GREGORIAN
METHOD:PUBLISH
X-WR-CALNAME:Webpicking
X-ORIGINAL-URL:https://webpicking.com
X-WR-CALDESC:Eventos para Webpicking
BEGIN:VEVENT
DTSTART;VALUE=DATE:20211129
DTEND;VALUE=DATE:20211202
DTSTAMP:20260424T152633
CREATED:20210309T140335Z
LAST-MODIFIED:20210309T140335Z
UID:24069-1638144000-1638403199@webpicking.com
SUMMARY:29° Congreso Latinoamericano de Puertos
DESCRIPTION:
URL:https://webpicking.com/event/29-congreso-latinoamericano-de-puertos-2/
LOCATION:Consultar al organizador – CART\, Cartagena\, Colombia
CATEGORIES:COLOMBIA
ORGANIZER;CN="Asociaci%C3%B3n%20Americana%20de%20Autoridades%20Portuarias":MAILTO:info@aapa-ports.org
END:VEVENT
END:VCALENDAR