BEGIN:VCALENDAR
VERSION:2.0
PRODID:-//Webpicking - ECPv4.6.26.1//NONSGML v1.0//EN
CALSCALE:GREGORIAN
METHOD:PUBLISH
X-WR-CALNAME:Webpicking
X-ORIGINAL-URL:https://webpicking.com
X-WR-CALDESC:Eventos para Webpicking
BEGIN:VEVENT
DTSTART;VALUE=DATE:20190808
DTEND;VALUE=DATE:20190809
DTSTAMP:20260424T080618
CREATED:20190711T230816Z
LAST-MODIFIED:20190711T230816Z
UID:17127-1565222400-1565308799@webpicking.com
SUMMARY:22 Encuentro de Protagonistas
DESCRIPTION:
URL:https://webpicking.com/event/22-encuentro-de-protagonistas/
LOCATION:Consultar al organizador – BsAs\, Ciudad Autónoma de Buenos Aires\, Argentina
CATEGORIES:ARGENTINA
END:VEVENT
END:VCALENDAR