BEGIN:VCALENDAR
VERSION:2.0
PRODID:-//Webpicking - ECPv4.6.26.1//NONSGML v1.0//EN
CALSCALE:GREGORIAN
METHOD:PUBLISH
X-WR-CALNAME:Webpicking
X-ORIGINAL-URL:https://webpicking.com
X-WR-CALDESC:Eventos para Webpicking
BEGIN:VEVENT
DTSTART;VALUE=DATE:20161006
DTEND;VALUE=DATE:20161008
DTSTAMP:20260421T233404
CREATED:20160624T155929Z
LAST-MODIFIED:20160624T155929Z
UID:2315-1475712000-1475884799@webpicking.com
SUMMARY:18º Congreso Internacional FITAC 2016
DESCRIPTION:
URL:https://webpicking.com/event/18o-congreso-internacional-fitac-2016/
LOCATION:Consultar al organizador – BOG\, Bogotá\, Colombia
CATEGORIES:COLOMBIA
ORGANIZER;CN="FITAC":MAILTO:congresonacional@fitac.net
END:VEVENT
END:VCALENDAR