BEGIN:VCALENDAR
VERSION:2.0
PRODID:-//Webpicking - ECPv4.6.26.1//NONSGML v1.0//EN
CALSCALE:GREGORIAN
METHOD:PUBLISH
X-WR-CALNAME:Webpicking
X-ORIGINAL-URL:https://webpicking.com
X-WR-CALDESC:Eventos para Webpicking
BEGIN:VEVENT
DTSTART;VALUE=DATE:20190814
DTEND;VALUE=DATE:20190817
DTSTAMP:20260424T005653
CREATED:20190330T025759Z
LAST-MODIFIED:20190330T025759Z
UID:15997-1565740800-1565999999@webpicking.com
SUMMARY:15º Expo Logística Colombia
DESCRIPTION:
URL:https://webpicking.com/event/15o-expo-logistica-colombia/
LOCATION:Consultar al organizador – BOG\, Bogotá\, Colombia
CATEGORIES:COLOMBIA
ORGANIZER;CN="ANALDEX":MAILTO:analdex@analdex.org
END:VEVENT
END:VCALENDAR